Workbook

Sheet Исходные данные>>

Sheet Исходные данные
F1: расчетные значения
B3: Таблица 1. Сбросы на факел и потребление ПГ | C3: До реализации проекта
B4: Год | C4: 2023 | D4: 2024 | E4: 2025 | F4: Подтверждающая документация
B5: Сбросы на факел с колонн Кт-118 уст. БК-3, т | C5: =C25 -> 21756.622 | D5: =D25 -> 33826.315 | E5: =E25 -> 40782.588 | F5: Выгрузка из MES
B6: Потребление ПГ на продувку факельного коллектора ГФ-1, м3 | C6: =C42 -> 1308782.6 | D6: =G42 -> 2948035.3 | E6: =K42 -> 4317638.5 | F6: Выгрузка из MES
B7: Потребление ПГ на продувку факельного коллектора ГФ-2, м3 | C7: =D42 -> 914216.06 | D7: =H42 -> 1664557.2 | E7: =L42 -> 2054968.6 | F7: Выгрузка из MES
B8: Потребление ПГ на продувку факельного коллектора бутадиен, м3 | C8: =E42 -> 1406373.7 | D8: =I42 -> 2844740.5 | E8: =M42 -> 4280092.3 | F8: Выгрузка из MES
B9: Потребление ПГ на продувку ИТОГО | C9: =SUM(C6:C8) -> 3629372.4 | D9: =SUM(D6:D8) -> 7457333.1 | E9: =SUM(E6:E8) -> 10652699 | F9: Расчет
B11: Таблица 2. Сбросы на факел с колонн Кт-118 уст. БК-3 по месяцам
B12: Месяц | C12: 2023 | D12: 2024 | E12: 2025 | F12: 2026+ базовый
B13: Январь | C13: 0 | D13: =1539.581904+1936.314757 -> 3475.8967 | E13: =819.0355553 -> 819.03556 | F13: =AVERAGE(D13:E13) -> 2147.4661
B14: Февраль | C14: 0 | D14: =1491.524474+1533.491881 -> 3025.0164 | E14: =1146.2034+2049.665423 -> 3195.8688 | F14: =AVERAGE(D14:E14) -> 3110.4426
B15: Март | C15: 0 | D15: =1160.104594+1359.280983 -> 2519.3856 | E15: =1392.853883+2603.970124 -> 3996.824 | F15: =AVERAGE(D15:E15) -> 3258.1048
B16: Апрель | C16: 0 | D16: =1521.302282+1777.501303 -> 3298.8036 | E16: =1145.618789+2210.978742 -> 3356.5975 | F16: =AVERAGE(D16:E16) -> 3327.7006
B17: Май | C17: 0 | D17: =618.917638+1616.469139 -> 2235.3868 | E17: =1406.688804+1728.785061 -> 3135.4739 | F17: =AVERAGE(D17:E17) -> 2685.4303
B18: Июнь | C18: 0 | D18: =250.5812049+466.4225133 -> 717.00372 | E18: =475.8610739+1295.299537 -> 1771.1606 | F18: =AVERAGE(D18:E18) -> 1244.0822
B19: Июль | C19: 0 | D19: =1176.034514+2183.635047 -> 3359.6696 | E19: =1612.211392+2328.227097 -> 3940.4385 | F19: =AVERAGE(D19:E19) -> 3650.054
B20: Август | C20: =2119.577957+2306.956284 -> 4426.5342 | D20: =1303.449408+2131.730811 -> 3435.1802 | E20: =1633.977259+2407.474611 -> 4041.4519 | F20: =AVERAGE(C20:E20) -> 3967.7221
B21: Сентябрь | C21: =2149.426244+2309.673682 -> 4459.0999 | D21: =1184.116804+1373.82888 -> 2557.9457 | E21: =1607.033489+2378.893698 -> 3985.9272 | F21: =AVERAGE(C21:E21) -> 3667.6576
B22: Октябрь | C22: =1890.295267+2183.272358 -> 4073.5676 | D22: =1272.3029+2404.49588 -> 3676.7988 | E22: =1630.251622+2581.013411 -> 4211.265 | F22: =AVERAGE(C22:E22) -> 3987.2105
B23: Ноябрь | C23: =2100.236818+2225.05297 -> 4325.2898 | D23: =952.6889301+1971.795162 -> 2924.4841 | E23: =1562.346267+2509.349573 -> 4071.6958 | F23: =AVERAGE(C23:E23) -> 3773.8232
B24: Декабрь | C24: =2062.175421+2409.955317 -> 4472.1307 | D24: =926.947725+1673.796672 -> 2600.7444 | E24: =1580.757052+2676.092021 -> 4256.8491 | F24: =AVERAGE(C24:E24) -> 3776.5747
B25: ИТОГО | C25: =SUM(C13:C24) -> 21756.622 | D25: =SUM(D13:D24) -> 33826.315 | E25: =SUM(E13:E24) -> 40782.588 | F25: =SUM(F13:F24) -> 38596.269
B27: Таблица 3. Потребление ПГ на продувку факельного коллектора по месяцам
B28: Месяц | C28: 2023 | G28: 2024 | K28: 2025 | O28: 2026 базовый | S28: 2026 проектный | T28: 2027+ базовый | U28: 2027+ проектный
B29: Расходомер, м3/год | C29: Факельный коллектор ГФ-2 (3342) | D29: Факельный коллектор ГФ-1 (555) | E29: Факельный коллектор бутадиен (401) | F29: ИТОГО | G29: Факельный коллектор ГФ-2 (3342) | H29: Факельный коллектор ГФ-1 (555) | I29: Факельный коллектор бутадиен (401) | J29: ИТОГО | K29: Факельный коллектор ГФ-2 (3342) | L29: Факельный коллектор ГФ-1 (555) | M29: Факельный коллектор бутадиен (401) | N29: ИТОГО | O29: Факельный коллектор ГФ-2 (3342) | P29: Факельный коллектор ГФ-1 (555) | Q29: Факельный коллектор бутадиен (401) | R29: ИТОГО | S29: ИТОГО | T29: ИТОГО | U29: ИТОГО
B30: Январь | C30: 0 | D30: 0 | E30: 0 | F30: =SUM(C30:E30) -> 0 | G30: 303667.31 | H30: 200884.24 | I30: 341890.51 | J30: =SUM(G30:I30) -> 846442.06 | K30: 286854.9 | L30: 157264.88 | M30: 297691.53 | N30: =SUM(K30:M30) -> 741811.31 | O30: 367139.95 | P30: 185721.49 | Q30: 336165.01 | R30: =SUM(O30:Q30) -> 889026.45 | S30: =R30 -> 889026.45 | T30: =AVERAGE(N30,J30,R30) -> 825759.94 | U30: 0
B31: Февраль | C31: 0 | D31: 0 | E31: 0 | F31: =SUM(C31:E31) -> 0 | G31: 177207.64 | H31: 105903 | I31: 177776.42 | J31: =SUM(G31:I31) -> 460887.07 | K31: 248243.56 | L31: 156154.19 | M31: 272946.25 | N31: =SUM(K31:M31) -> 677343.99 | O31: 329186.48 | P31: 167766.62 | Q31: 283230.63 | R31: =SUM(O31:Q31) -> 780183.73 | S31: =R31 -> 780183.73 | T31: =AVERAGE(N31,J31,R31) -> 639471.6 | U31: 0
B32: Март | C32: 0 | D32: 0 | E32: 0 | F32: =SUM(C32:E32) -> 0 | G32: 196735.8 | H32: 87525.919 | I32: 163486.08 | J32: =SUM(G32:I32) -> 447747.8 | K32: 302384.56 | L32: 150882.24 | M32: 315392 | N32: =SUM(K32:M32) -> 768658.8 | O32: =AVERAGE(G32,K32) -> 249560.18 | P32: =AVERAGE(H32,L32) -> 119204.08 | Q32: =AVERAGE(I32,M32) -> 239439.04 | R32: =SUM(O32:Q32) -> 608203.3 | S32: =R32 -> 608203.3 | T32: =R32 -> 608203.3 | U32: 0
B33: Апрель | C33: 0 | D33: 0 | E33: 0 | F33: =SUM(C33:E33) -> 0 | G33: 186767.39 | H33: 119658.1 | I33: 202774.31 | J33: =SUM(G33:I33) -> 509199.8 | K33: 295668.84 | L33: 147917.71 | M33: 300043.86 | N33: =SUM(K33:M33) -> 743630.42 | O33: =AVERAGE(G33,K33) -> 241218.11 | P33: =AVERAGE(H33,L33) -> 133787.91 | Q33: =AVERAGE(I33,M33) -> 251409.09 | R33: =SUM(O33:Q33) -> 626415.11 | S33: =R33 -> 626415.11 | T33: =R33 -> 626415.11 | U33: 0
B34: Май | C34: 0 | D34: 0 | E34: 0 | F34: =SUM(C34:E34) -> 0 | G34: 186682.96 | H34: 119594.7 | I34: 219661.51 | J34: =SUM(G34:I34) -> 525939.17 | K34: 489157.84 | L34: 159959.46 | M34: 341723.52 | N34: =SUM(K34:M34) -> 990840.82 | O34: =AVERAGE(G34,K34) -> 337920.4 | P34: =AVERAGE(H34,L34) -> 139777.08 | Q34: =AVERAGE(I34,M34) -> 280692.51 | R34: =SUM(O34:Q34) -> 758389.99 | S34: =R34 -> 758389.99 | T34: =R34 -> 758389.99 | U34: 0
B35: Июнь | C35: 0 | D35: 0 | E35: 0 | F35: =SUM(C35:E35) -> 0 | G35: 284684.9 | H35: 104362.13 | I35: 56975.666 | J35: =SUM(G35:I35) -> 446022.69 | K35: 518214.25 | L35: 180005.71 | M35: 584516.45 | N35: =SUM(K35:M35) -> 1282736.4 | O35: =AVERAGE(G35,K35) -> 401449.57 | P35: =AVERAGE(H35,L35) -> 142183.92 | Q35: =AVERAGE(I35,M35) -> 320746.06 | R35: =SUM(O35:Q35) -> 864379.55 | S35: =R35 -> 864379.55 | T35: =R35 -> 864379.55 | U35: 0
B36: Июль | C36: 0 | D36: 0 | E36: 0 | F36: =SUM(C36:E36) -> 0 | G36: 265337.98 | H36: 144234.47 | I36: 266427.4 | J36: =SUM(G36:I36) -> 675999.85 | K36: 398786.85 | L36: 186022.76 | M36: 435708.29 | N36: =SUM(K36:M36) -> 1020517.9 | O36: =AVERAGE(G36,K36) -> 332062.41 | P36: =AVERAGE(H36,L36) -> 165128.62 | Q36: =AVERAGE(I36,M36) -> 351067.85 | R36: =SUM(O36:Q36) -> 848258.88 | S36: =R36/31*9 -> 246268.71 | T36: =R36 -> 848258.88 | U36: 0
B37: Август | C37: 264013.06 | D37: 179282.03 | E37: 290296.05 | F37: =SUM(C37:E37) -> 733591.14 | G37: 280304.38 | H37: 166941.6 | I37: 319017.19 | J37: =SUM(G37:I37) -> 766263.18 | K37: 340603.6 | L37: 186013.66 | M37: 316825.5 | N37: =SUM(K37:M37) -> 843442.76 | O37: =AVERAGE(C37,G37,K37) -> 294973.68 | P37: =AVERAGE(D37,H37,L37) -> 177412.43 | Q37: =AVERAGE(E37,I37,M37) -> 308712.91 | R37: =SUM(O37:Q37) -> 781099.02 | S37: 0 | T37: =R37 -> 781099.02 | U37: 0
B38: Сентябрь | C38: 250930.59 | D38: 170380.12 | E38: 276470.97 | F38: =SUM(C38:E38) -> 697781.69 | G38: 254994.46 | H38: 149487.8 | I38: 265936.85 | J38: =SUM(G38:I38) -> 670419.12 | K38: 329003.09 | L38: 179986.08 | M38: 324194.27 | N38: =SUM(K38:M38) -> 833183.45 | O38: =AVERAGE(C38,G38,K38) -> 278309.38 | P38: =AVERAGE(D38,H38,L38) -> 166618 | Q38: =AVERAGE(E38,I38,M38) -> 288867.37 | R38: =SUM(O38:Q38) -> 733794.75 | S38: 0 | T38: =R38 -> 733794.75 | U38: 0
B39: Октябрь | C39: 268697.73 | D39: 181934.06 | E39: 266376.13 | F39: =SUM(C39:E39) -> 717007.92 | G39: 305479.47 | H39: 178482.74 | I39: 312160.03 | J39: =SUM(G39:I39) -> 796122.23 | K39: 340046.4 | L39: 185624.02 | M39: 326983.54 | N39: =SUM(K39:M39) -> 852653.97 | O39: =AVERAGE(C39,G39,K39) -> 304741.2 | P39: =AVERAGE(D39,H39,L39) -> 182013.61 | Q39: =AVERAGE(E39,I39,M39) -> 301839.9 | R39: =SUM(O39:Q39) -> 788594.71 | S39: 0 | T39: =R39 -> 788594.71 | U39: 0
B40: Ноябрь | C40: 272941.4 | D40: 189103.66 | E40: 290579.24 | F40: =SUM(C40:E40) -> 752624.31 | G40: 251443 | H40: 147463.01 | I40: 252534.22 | J40: =SUM(G40:I40) -> 651440.23 | K40: 391451.46 | L40: 179573.82 | M40: 321657.95 | N40: =SUM(K40:M40) -> 892683.22 | O40: =AVERAGE(C40,G40,K40) -> 305278.62 | P40: =AVERAGE(D40,H40,L40) -> 172046.83 | Q40: =AVERAGE(E40,I40,M40) -> 288257.14 | R40: =SUM(O40:Q40) -> 765582.59 | S40: 0 | T40: =R40 -> 765582.59 | U40: 0
B41: Декабрь | C41: 252199.84 | D41: 193516.19 | E41: 282651.31 | F41: =SUM(C41:E41) -> 728367.34 | G41: 254730.04 | H41: 140019.51 | I41: 266100.36 | J41: =SUM(G41:I41) -> 660849.91 | K41: 377223.16 | L41: 185564.06 | M41: 442409.14 | N41: =SUM(K41:M41) -> 1005196.4 | O41: =AVERAGE(C41,G41,K41) -> 294717.68 | P41: =AVERAGE(D41,H41,L41) -> 173033.25 | Q41: =AVERAGE(E41,I41,M41) -> 330386.94 | R41: =SUM(O41:Q41) -> 798137.87 | S41: 0 | T41: =R41 -> 798137.87 | U41: 0
B42: ИТОГО | C42: =SUM(C30:C41) -> 1308782.6 | D42: =SUM(D30:D41) -> 914216.06 | E42: =SUM(E30:E41) -> 1406373.7 | F42: =SUM(F30:F41) -> 3629372.4 | G42: =SUM(G30:G41) -> 2948035.3 | H42: =SUM(H30:H41) -> 1664557.2 | I42: =SUM(I30:I41) -> 2844740.5 | J42: =SUM(J30:J41) -> 7457333.1 | ... U42: =SUM(U30:U41) -> 0

Sheet Коэффициенты>>

Sheet Абгаз_состав
J1: расчетные значения
B2: Таблица 1.1 Физико-химические показатели абгаза, 2023 | M2: Таблица 1.2 Переводные коэффициенты (2023) | R2: Таблица 1.3 Коэффициент выбросов (2023)
B3: 2023 | M3: Переводные коэффициенты | T3: СН4
B4: Показатель | C4: CH4 | D4: CO2 | E4: CO | F4: C2 | G4: C3 | H4: C4 | I4: C6+ | J4: НТС | K4: Плотность | M4: 1000000 | N4: ккал | O4: т.у.т. | P4: 0.1429 | R4: Факельное сжигание | S4: Единица измерения | T4: Факельное сжигание | U4: Единица измерения
B5: Количество атомов углерода | C5: 1 | D5: 1 | E5: 1 | F5: 2 | G5: 3 | H5: 4 | I5: 6 | J5: ккал/м3 | K5: кг/м3 | M5: 1 | N5: т.у.т. | O5: ТДж | P5: 0.0293076 | R5: =(D19+(SUM(C19,E19:I19)*(1-B$80)))*$C$71*0.01 -> 0.68874421 | S5: т СО2/тыс. куб | T5: =C19*$C$72*0.01*B$80 -> 3.5437795e-05 | U5: т СН4/тыс. куб
B6: январь | C6: 8.29744 | D6: 4.80983 | E6: 10.59313 | F6: 0.67158 | G6: 1.48448 | H6: 0.13253 | I6: 0.51091667 | J6: 2268.081 | K6: 0.42258 | M6: 1 | N6: тыс. куб | O6: ккал | P6: =J18*1000 -> 2399102.6 | R6: =R5/P7 -> 2.008986 | S6: т СО2/т.у.т | T6: =T5/P7 -> 0.00010336789 | U6: т СН4/т.у.т
B7: февраль | C7: 8.052125 | D7: 5.575825 | E7: 10.432825 | F7: 0.6876875 | G7: 1.1522625 | H7: 0.1117375 | I7: 0.78113333 | J7: 2237.3463 | K7: 0.4237875 | M7: 1 | N7: тыс. куб | O7: т.у.т. | P7: =P4*(P6/M4) -> 0.34283176 | R7: =R5/P8 -> 68.548294 | S7: т СО2/ТДж | T7: =T5/P8 -> 0.0035269994 | U7: т СН4/ТДж
B8: март | C8: 7.9306625 | D8: 5.205525 | E8: 10.242613 | F8: 0.695325 | G8: 1.2047875 | H8: 0.115775 | I8: 0.3697875 | J8: 2236.9525 | K8: 0.4276125 | M8: 1 | N8: тыс. куб | O8: ТДж | P8: =P5*(P7/M5) -> 0.010047576 | R8: =R5/K18 -> 1.4861381 | S8: т СО2/т | T8: =T5/K18 -> 7.6465918e-05 | U8: т СН4/т
B9: апрель | C9: 8.6840625 | D9: 5.26615 | E9: 10.819513 | F9: 0.77975 | G9: 1.6196875 | H9: 0.1539 | I9: 0.5402 | J9: 2302.8587 | K9: 0.4176125
B10: май | C10: 9.4184375 | D10: 4.947275 | E10: 11.750175 | F10: 0.83765 | G10: 1.35415 | H10: 0.154025 | I10: 0.68625 | J10: 2347.41 | K10: 0.393025
B11: июнь | C11: 8.63066 | D11: 5.17038 | E11: 12.35154 | F11: 0.73682 | G11: 1.62042 | H11: 0.16548 | I11: 0.382825 | J11: 2291.632 | K11: 0.46846
B12: июль | C12: 7.5718875 | D12: 3.983025 | E12: 10.41415 | F12: 0.9663625 | G12: 10.379262 | H12: 0.604475 | I12: 0.29292857 | J12: 3546.695 | K12: 0.599375
B13: август | C13: 7.82633 | D13: 4.49939 | E13: 10.997578 | F13: 0.6534 | G13: 1.34181 | H13: 0.11693 | I13: 0.45548889 | J13: 2175.33 | K13: 0.50089
B14: сентябрь | C14: 8.3213 | D14: 4.8272375 | E14: 10.897562 | F14: 0.7168375 | G14: 1.149025 | H14: 0.11405 | I14: 0.5285 | J14: 2197.8138 | K14: 0.4898
B15: октябрь | C15: 9.70299 | D15: 5.87861 | E15: 12.65238 | F15: 0.81498 | G15: 1.47467 | H15: 0.16039 | I15: 0.56054 | J15: 2338.098 | K15: 0.46853
B16: ноябрь | C16: 11.2534 | D16: 7.2612625 | E16: 13.047371 | F16: 1.0796 | G16: 1.184775 | H16: 0.2301 | I16: 0.58408571 | J16: 2429.0638 | K16: 0.437275
B17: декабрь | C17: 10.411887 | D17: 5.547125 | E17: 12.551888 | F17: 0.8708625 | G17: 2.259 | H17: 0.3437125 | I17: 0.3828875 | J17: 2417.95 | K17: 0.5124
B18: Среднее значение | C18: =AVERAGE(C6:C17) -> 8.8417652 | D18: =AVERAGE(D6:D17) -> 5.2476363 | E18: =AVERAGE(E6:E17) -> 11.395894 | F18: =AVERAGE(F6:F17) -> 0.79257125 | G18: =AVERAGE(G6:G17) -> 2.1853608 | H18: =AVERAGE(H6:H17) -> 0.20025875 | I18: =AVERAGE(I6:I17) -> 0.50629526 | J18: =AVERAGE(J6:J17) -> 2399.1026 | K18: =AVERAGE(K6:K17) -> 0.46344563
B19: Умножение на n атомов углерода | C19: =C18*C5 -> 8.8417652 | D19: =D18*D5 -> 5.2476363 | E19: =E18*E5 -> 11.395894 | F19: =F18*F5 -> 1.5851425 | G19: =G18*G5 -> 6.5560825 | H19: =H18*H5 -> 0.801035 | I19: =I18*I5 -> 3.0377716
B21: Таблица 2.1 Физико-химические показатели абгаза, 2024 | M21: Таблица 2.2 Переводные коэффициенты (2024) | R21: Таблица 2.3 Коэффициент выбросов (2024)
B22: 2024 | M22: Переводные коэффициенты | T22: СН4
B23: Показатель | C23: CH4 | D23: CO2 | E23: CO | F23: C2 | G23: C3 | H23: C4 | I23: C6+ | J23: НТС | K23: Плотность | M23: 1000000 | N23: ккал | O23: т.у.т. | P23: 0.1429 | R23: Факельное сжигание | S23: Единица измерения | T23: Факельное сжигание | U23: Единица измерения
B24: Количество атомов углерода | C24: 1 | D24: 1 | E24: 1 | F24: 2 | G24: 3 | H24: 4 | I24: 6 | J24: ккал/м3 | K24: кг/м3 | M24: 1 | N24: т.у.т. | O24: ТДж | P24: 0.0293076 | R24: =(D38+(SUM(C38,E38:I38)*(1-B$80)))*$C$71*0.01 -> 0.78768248 | S24: т СО2/тыс. куб | T24: =C38*$C$72*0.01*B$80 -> 5.6908196e-05 | U24: т СН4/тыс. куб
B25: январь | C25: 11.5948 | D25: 5.85534 | E25: 12.06353 | F25: 0.76795 | G25: 0.88176 | H25: 0.87468 | I25: 0.4097 | J25: 2406.07 | K25: 0.51565 | M25: 1 | N25: тыс. куб | O25: ккал | P25: =J37*1000 -> 2606861.9 | R25: =R24/P26 -> 2.1144671 | S25: т СО2/т.у.т | T25: =T24/P26 -> 0.00015276525 | U25: т СН4/т.у.т
B26: февраль | C26: 13.178275 | D26: 6.4526375 | E26: 9.9712125 | F26: 0.8106125 | G26: 2.0578375 | H26: 1.1361 | I26: 0.69195 | J26: 2588.3125 | K26: 0.5178375 | M26: 1 | N26: тыс. куб | O26: т.у.т. | P26: =P23*(P25/M23) -> 0.37252056 | R26: =R24/P27 -> 72.147398 | S26: т СО2/ТДж | T26: =T24/P27 -> 0.0052124788 | U26: т СН4/ТДж
B27: март | C27: 11.654787 | D27: 4.951175 | E27: 8.3582625 | F27: 0.6592125 | G27: 3.1083375 | H27: 0.1697 | I27: 0.3046 | J27: 2412.1013 | K27: 0.5356 | M27: 1 | N27: тыс. куб | O27: ТДж | P27: =P24*(P26/M24) -> 0.010917684 | R27: =R24/K37 -> 1.6283569 | S27: т СО2/т | T27: =T24/K37 -> 0.00011764493 | U27: т СН4/т
B28: апрель | C28: 13.6161 | D28: 5.45188 | E28: 8.88992 | F28: 0.88213 | G28: 6.10898 | H28: 0.50112 | I28: 0.381825 | J28: 2777.866 | K28: 0.56355
B29: май | C29: 16.49475 | D29: 6.55865 | E29: 9.63255 | F29: 0.96795 | G29: 2.8297 | H29: 0.1508 | I29: 0 | J29: 2707.945 | K29: 0.50225
B30: июнь | C30: 12.476963 | D30: 5.889475 | E30: 12.478337 | F30: 1.0502 | G30: 3.01195 | H30: 0.842475 | I30: 0.320425 | J30: 2587.14 | K30: 0.44273333
B31: июль | C31: 15.01622 | D31: 5.76318 | E31: 10.67687 | F31: 0.81701 | G31: 2.57193 | H31: 0.13037 | I31: 0 | J31: 2656.289 | K31: 0.46553
B32: август | C32: 14.274713 | D32: 6.4096125 | E32: 11.323275 | F32: 0.843125 | G32: 2.12135 | H32: 0.1176375 | I32: 0 | J32: 2590.1662 | K32: 0.4691625
B33: сентябрь | C33: 16.154287 | D33: 5.1576125 | E33: 11.788971 | F33: 0.8088625 | G33: 2.2113875 | H33: 1.1160875 | I33: 0 | J33: 2694.615 | K33: 0.4476
B34: октябрь | C34: 14.97728 | D34: 5.94129 | E34: 11.65185 | F34: 0.83714 | G34: 1.50459 | H34: 0.1246 | I34: 0 | J34: 2604.4 | K34: 0.44125
B35: ноябрь | C35: 16.156125 | D35: 6.3728 | E35: 12.397125 | F35: 0.9523 | G35: 2.026525 | H35: 0.1232375 | I35: 0 | J35: 2696.2638 | K35: 0.4420375
B36: декабрь | C36: 14.78952 | D36: 4.07331 | E36: 11.16512 | F36: 0.78654 | G36: 1.5807 | H36: 0.07535 | I36: 0 | J36: 2561.174 | K36: 0.46154
B37: Среднее значение | C37: =AVERAGE(C25:C36) -> 14.198652 | D37: =AVERAGE(D25:D36) -> 5.7397469 | E37: =AVERAGE(E25:E36) -> 10.866419 | F37: =AVERAGE(F25:F36) -> 0.84858604 | G37: =AVERAGE(G25:G36) -> 2.501254 | H37: =AVERAGE(H25:H36) -> 0.44684646 | I37: =AVERAGE(I25:I36) -> 0.17570833 | J37: =AVERAGE(J25:J36) -> 2606.8619 | K37: =AVERAGE(K25:K36) -> 0.4837284
B38: Умножение на n атомов углерода | C38: =C37*C24 -> 14.198652 | D38: =D37*D24 -> 5.7397469 | E38: =E37*E24 -> 10.866419 | F38: =F37*F24 -> 1.6971721 | G38: =G37*G24 -> 7.5037619 | H38: =H37*H24 -> 1.7873858 | I38: =I37*I24 -> 1.05425
B40: Таблица 3.1 Физико-химические показатели абгаза, 2025 | M40: Таблица 3.2 Переводные коэффициенты (2025) | R40: Таблица 3.3 Коэффициент выбросов (2025)
B41: 2025 | M41: Переводные коэффициенты | T41: СН4
B42: Показатель | C42: CH4 | D42: CO2 | E42: CO | F42: C2 | G42: C3 | H42: C4 | I42: C6+ | J42: НТС | K42: Плотность | M42: 1000000 | N42: ккал | O42: т.у.т. | P42: 0.1429 | R42: Факельное сжигание | S42: Единица измерения | T42: Факельное сжигание | U42: Единица измерения
...

Sheet ПГ_состав
N1: расчетные значения
B2: Таблица 1.1 Физико-химические показатели ПГ, 2023 | Q2: Таблица 1.2 Переводные коэффициенты (2023) | V2: Таблица 1.3 Коэффициент выбросов (2023)
B3: 2023 | Q3: Переводные коэффициенты | V3: СО2 | X3: СН4
B4: Показатель | C4: метан | D4: этан | E4: пропан | F4: изо-бутан | G4: норм-бутан | H4: нео-пентан | I4: изо-пентан | J4: норм-пентан | K4: гексаны | L4: диоксид углерода | M4: НТС | O4: Плотность | Q4: 1000000 | R4: ккал | S4: т.у.т. | T4: 0.1429 | V4: Факельное сжигание | W4: Единица измерения | X4: Факельное сжигание | Y4: Единица измерения
B5: Количество атомов углерода | C5: 1 | D5: 2 | E5: 3 | F5: 4 | G5: 4 | H5: 5 | I5: 5 | J5: 5 | K5: 6 | L5: 1 | M5: МДж/м3 | N5: ккал/м3 | O5: кг/м3 | Q5: 1 | R5: т.у.т. | S5: ТДж | T5: 0.0293076 | V5: =(L19+(SUM(C19:K19)*(1-B$78)))*$C$69*0.01 -> 1.8816826 | W5: т СО2/тыс. куб | X5: =C19*$C$70*0.01*B$78 -> 0.00038386954 | Y5: т СН4/тыс. куб
B6: январь | C6: 96.39 | D6: 1.59 | E6: 0.423 | F6: 0.072 | G6: 0.07 | H6: 0.0007 | I6: 0.0166 | J6: 0.0108 | K6: 0.0099 | L6: 0.2 | M6: 33.74 | N6: 8059 | O6: 0.6941 | Q6: 1 | R6: тыс. куб | S6: ккал | T6: =N18*1000 -> 8084833.3 | V6: =V5/T7 -> 1.6287074 | W6: т СО2/т.у.т | X6: =X5/T7 -> 0.00033226175 | Y6: т СН4/т.у.т
B7: февраль | C7: 96.36 | D7: 1.59 | E7: 0.44 | F7: 0.079 | G7: 0.076 | H7: 0.0006 | I7: 0.018 | J7: 0.0118 | K7: 0.0109 | L7: 0.203 | M7: 33.76 | N7: 8063 | O7: 0.6946 | Q7: 1 | R7: тыс. куб | S7: т.у.т. | T7: =T4*(T6/Q4) -> 1.1553227 | V7: =V5/T8 -> 55.572867 | W7: т СО2/ТДж | X7: =X5/T8 -> 0.011337051 | Y7: т СН4/ТДж
B8: март | C8: 95.94 | D8: 1.92 | E8: 0.52 | F8: 0.084 | G8: 0.082 | H8: 0.0007 | I8: 0.0183 | J8: 0.0124 | K8: 0.0111 | L8: 0.232 | M8: 33.9 | N8: 8097 | O8: 0.6979 | Q8: 1 | R8: тыс. куб | S8: ТДж | T8: =T5*(T7/Q5) -> 0.033859735 | V8: =V5/O18 -> 2.6917711 | W8: т СО2/т | X8: =X5/O18 -> 0.00054913031 | Y8: т СН4/т
B9: апрель | C9: 95.84 | D9: 1.92 | E9: 0.51 | F9: 0.078 | G9: 0.078 | H9: 0.00076 | I9: 0.0179 | J9: 0.0126 | K9: 0.0111 | L9: 0.265 | M9: 33.85 | N9: 8085 | O9: 0.6987
B10: май | C10: 95.52 | D10: 1.92 | E10: 0.55 | F10: 0.1 | G10: 0.096 | H10: 0.0011 | I10: 0.0277 | J10: 0.0182 | K10: 0.0147 | L10: 0.339 | M10: 33.84 | N10: 8082 | O10: 0.7016
B11: июнь | C11: 95.21 | D11: 2.11 | E11: 0.54 | F11: 0.079 | G11: 0.08 | H11: 0.00083 | I11: 0.023 | J11: 0.0181 | K11: 0.0118 | L11: 0.43 | M11: 33.79 | N11: 8071 | O11: 0.7033
B12: июль | C12: 95.63 | D12: 1.9 | E12: 0.51 | F12: 0.09 | G12: 0.086 | H12: 0.005 | I12: 0.0213 | J12: 0.0143 | K12: 0.0085 | L12: 0.305 | M12: 33.79 | N12: 8071 | O12: 0.7
B13: август | C13: 95.8 | D13: 1.84 | E13: 0.47 | F13: 0.076 | G13: 0.072 | H13: 0.005 | I13: 0.018 | J13: 0.0129 | K13: 0.0092 | L13: 0.294 | M13: 33.74 | N13: 8059 | O13: 0.6983
B14: сентябрь | C14: 95.17 | D14: 2.4 | E14: 0.63 | F14: 0.098 | G14: 0.087 | H14: 0.005 | I14: 0.0199 | J14: 0.013 | K14: 0.0124 | L14: 0.33 | M14: 34.05 | N14: 8133 | O14: 0.7039
B15: октябрь | C15: 95.84 | D15: 1.87 | E15: 0.5 | F15: 0.082 | G15: 0.078 | H15: 0.005 | I15: 0.0197 | J15: 0.013 | K15: 0.0133 | L15: 0.281 | M15: 33.824 | N15: 8079 | O15: 0.6986
B16: ноябрь | C16: 95.77 | D16: 2.03 | E16: 0.53 | F16: 0.086 | G16: 0.082 | H16: 0.005 | I16: 0.0199 | J16: 0.0134 | K16: 0.0125 | L16: 0.256 | M16: 33.923 | N16: 8102 | O16: 0.6992
B17: декабрь | C17: 95.84 | D17: 2.1 | E17: 0.54 | F17: 0.083 | G17: 0.08 | H17: 0.005 | I17: 0.0166 | J17: 0.0109 | K17: 0.0095 | L17: 0.202 | M17: 33.985 | N17: 8117 | O17: 0.6984
B18: Среднее значение | C18: =AVERAGE(C6:C17) -> 95.775833 | D18: =AVERAGE(D6:D17) -> 1.9325 | E18: =AVERAGE(E6:E17) -> 0.51358333 | F18: =AVERAGE(F6:F17) -> 0.083916667 | G18: =AVERAGE(G6:G17) -> 0.080583333 | H18: =AVERAGE(H6:H17) -> 0.0028908333 | I18: =AVERAGE(I6:I17) -> 0.019741667 | J18: =AVERAGE(J6:J17) -> 0.01345 | ... O18: =AVERAGE(O6:O17) -> 0.69905
B19: Умножение на n атомов углерода | C19: =C18*C5 -> 95.775833 | D19: =D18*D5 -> 3.865 | E19: =E18*E5 -> 1.54075 | F19: =F18*F5 -> 0.33566667 | G19: =G18*G5 -> 0.32233333 | H19: =H18*H5 -> 0.014454167 | I19: =I18*I5 -> 0.098708333 | J19: =J18*J5 -> 0.06725 | ... L19: =L18*L5 -> 0.27808333
B21: Таблица 2.1 Физико-химические показатели ПГ, 2024 | Q21: Таблица 2.2 Переводные коэффициенты (2024) | V21: Таблица 2.3 Коэффициент выбросов (2024)
B22: 2024 | Q22: Переводные коэффициенты | V22: СО2 | X22: СН4
B23: Показатель | C23: метан | D23: этан | E23: пропан | F23: изо-бутан | G23: норм-бутан | H23: нео-пентан | I23: изо-пентан | J23: норм-пентан | K23: гексаны | L23: диоксид углерода | M23: НТС | O23: Плотность | Q23: 1000000 | R23: ккал | S23: т.у.т. | T23: 0.1429 | V23: Факельное сжигание | W23: Единица измерения | X23: Факельное сжигание | Y23: Единица измерения
B24: Количество атомов углерода | C24: 1 | D24: 2 | E24: 3 | F24: 4 | G24: 4 | H24: 5 | I24: 5 | J24: 5 | K24: 6 | L24: 1 | M24: МДж/м3 | N24: ккал/м3 | O24: кг/м3 | Q24: 1 | R24: т.у.т. | S24: ТДж | T24: 0.0293076 | V24: =(L38+(SUM(C38:K38)*(1-B$78)))*$C$69*0.01 -> 1.8888208 | W24: т СО2/тыс. куб | X24: =C38*$C$70*0.01*B$78 -> 0.00038355558 | Y24: т СН4/тыс. куб
B25: январь | C25: 95.62 | D25: 2.25 | E25: 0.6 | F25: 0.09 | G25: 0.086 | H25: 0.005 | I25: 0.0185 | J25: 0.0127 | K25: 0.0101 | L25: 0.213 | M25: 34.072 | N25: 8198 | O25: 0.7004 | Q25: 1 | R25: тыс. куб | S25: ккал | T25: =N37*1000 -> 8111333.3 | V25: =V24/T26 -> 1.6295447 | W25: т СО2/т.у.т | X25: =X24/T26 -> 0.00033090538 | Y25: т СН4/т.у.т
B26: февраль | C26: 96.08 | D26: 1.79 | E26: 0.53 | F26: 0.085 | G26: 0.088 | H26: 0.005 | I26: 0.0206 | J26: 0.0142 | K26: 0.0119 | L26: 0.0164 | M26: 33.9 | N26: 8097 | O26: 0.6973 | Q26: 1 | R26: тыс. куб | S26: т.у.т. | T26: =T23*(T25/Q23) -> 1.1591095 | V26: =V24/T27 -> 55.601437 | W26: т СО2/ТДж | X26: =X24/T27 -> 0.01129077 | Y26: т СН4/ТДж
B27: март | C27: 95.93 | D27: 1.91 | E27: 0.52 | F27: 0.091 | G27: 0.085 | H27: 0.005 | I27: 0.0208 | J27: 0.0142 | K27: 0.0125 | L27: 0.238 | M27: 33.908 | N27: 8099 | O27: 0.6983 | Q27: 1 | R27: тыс. куб | S27: ТДж | T27: =T24*(T26/Q24) -> 0.033970719 | V27: =V24/O37 -> 2.6963894 | W27: т СО2/т | X27: =X24/O37 -> 0.00054754544 | Y27: т СН4/т
B28: апрель | C28: 95.72 | D28: 1.98 | E28: 0.54 | F28: 0.092 | G28: 0.09 | H28: 0.005 | I28: 0.0222 | J28: 0.0142 | K28: 0.0112 | L28: 0.27 | M28: 33.905 | N28: 8098 | O28: 0.6998
B29: май | C29: 95.38 | D29: 2.12 | E29: 0.63 | F29: 0.101 | G29: 0.103 | H29: 0.005 | I29: 0.0256 | J29: 0.0165 | K29: 0.0146 | L29: 0.316 | M29: 33.985 | N29: 8057 | O29: 0.7029
B30: июнь | C30: 96 | D30: 1.58 | E30: 0.56 | F30: 0.104 | G30: 0.112 | H30: 0.005 | I30: 0.03 | J30: 0.0195 | K30: 0.0183 | L30: 0.236 | M30: 33.843 | N30: 8084 | O30: 0.6988
B31: июль | C31: 95.54 | D31: 1.99 | E31: 0.58 | F31: 0.104 | G31: 0.111 | H31: 0.005 | I31: 0.0283 | J31: 0.0181 | K31: 0.0162 | L31: 0.321 | M31: 33.943 | N31: 8107 | O31: 0.702
B32: август | C32: 95.59 | D32: 1.92 | E32: 0.56 | F32: 0.098 | G32: 0.106 | H32: 0.005 | I32: 0.026 | J32: 0.018 | K32: 0.0141 | L32: 0.327 | M32: 33.884 | N32: 8093 | O32: 0.7014
B33: сентябрь | C33: 95.37 | D33: 2.07 | E33: 0.69 | F33: 0.111 | G33: 0.115 | H33: 0.005 | I33: 0.0267 | J33: 0.0192 | K33: 0.0168 | L33: 0.311 | M33: 34.041 | N33: 8131 | O33: 0.7038
B34: октябрь | C34: 95.75 | D34: 1.92 | E34: 0.56 | F34: 0.101 | G34: 0.102 | H34: 0.005 | I34: 0.0234 | J34: 0.0173 | K34: 0.0166 | L34: 0.275 | M34: 33.936 | N34: 8105 | O34: 0.7002
B35: ноябрь | C35: 95.71 | D35: 2.07 | E35: 0.6 | F35: 0.103 | G35: 0.104 | H35: 0.005 | I35: 0.0222 | J35: 0.0166 | K35: 0.0149 | L35: 0.232 | M35: 34.038 | N35: 8130 | O35: 0.7005
B36: декабрь | C36: 95.68 | D36: 2.15 | E36: 0.61 | F36: 0.1 | G36: 0.101 | H36: 0.005 | I36: 0.0217 | J36: 0.0148 | K36: 0.0109 | L36: 0.234 | M36: 34.068 | N36: 8137 | O36: 0.7006
B37: Среднее значение | C37: =AVERAGE(C25:C36) -> 95.6975 | D37: =AVERAGE(D25:D36) -> 1.9791667 | E37: =AVERAGE(E25:E36) -> 0.58166667 | F37: =AVERAGE(F25:F36) -> 0.098333333 | G37: =AVERAGE(G25:G36) -> 0.10025 | H37: =AVERAGE(H25:H36) -> 0.005 | I37: =AVERAGE(I25:I36) -> 0.023833333 | J37: =AVERAGE(J25:J36) -> 0.016275 | ... O37: =AVERAGE(O25:O36) -> 0.7005
B38: Умножение на n атомов углерода | C38: =C37*C24 -> 95.6975 | D38: =D37*D24 -> 3.9583333 | E38: =E37*E24 -> 1.745 | F38: =F37*F24 -> 0.39333333 | G38: =G37*G24 -> 0.401 | H38: =H37*H24 -> 0.025 | I38: =I37*I24 -> 0.11916667 | J38: =J37*J24 -> 0.081375 | ... L38: =L37*L24 -> 0.24911667
B40: Таблица 3.1 Физико-химические показатели ПГ, 2025 | Q40: Таблица 3.2 Переводные коэффициенты (2025, до проекта) | V40: Таблица 3.3 Коэффициент выбросов (2025, до проекта)
B41: 2025 | Q41: Переводные коэффициенты | V41: СО2 | X41: СН4
B42: Показатель | C42: метан | D42: этан | E42: пропан | F42: изо-бутан | G42: норм-бутан | H42: нео-пентан | I42: изо-пентан | J42: норм-пентан | K42: гексаны | L42: диоксид углерода | M42: НТС | O42: Плотность | Q42: 1000000 | R42: ккал | S42: т.у.т. | T42: 0.1429 | V42: Факельное сжигание | W42: Единица измерения | X42: Факельное сжигание | Y42: Единица измерения
...

Sheet Расчетные модели>>

Sheet Расчетная модель
C3: Фактические значения
B4: Базовая линия | C4: 2023 | D4: 2024 | E4: 2025 | F4: 01.01.2026-24.07.2026 | G4: 25.07.2026-31.12.2026 | H4: 2027 | I4: 2028 | J4: 2029 | K4: 2030 | L4: 2031 | M4: 2032 | N4: 2033 | O4: 2034 | P4: 2035 | Q4: 01.01.2036-24.07.2036
B5: Сжигание абгаза на факеле, т | C5: ='Исходные данные'!C5 -> 21756.622 | D5: ='Исходные данные'!D5 -> 33826.315 | E5: ='Исходные данные'!E5 -> 40782.588 | F5: =SUM('Исходные данные'!F13:F18)+('Исходные данные'!F19*24/31) -> 18599.075 | G5: =SUM('Исходные данные'!F19:F24) -> 22823.042 | H5: ='Исходные данные'!F25 -> 38596.269 | I5: =H5 -> 38596.269 | J5: =I5 -> 38596.269 | K5: =J5 -> 38596.269 | L5: =K5 -> 38596.269 | M5: =L5 -> 38596.269 | N5: =M5 -> 38596.269 | O5: =N5 -> 38596.269 | P5: =O5 -> 38596.269 | Q5: =SUM('Исходные данные'!F13:F18)+('Исходные данные'!F19*24/31) -> 18599.075
B6: Коэффициент выбросов при сжигании абгаза на факеле, т СО2/т | C6: =Абгаз_состав!R8 -> 1.4861381 | D6: =Абгаз_состав!R27 -> 1.6283569 | E6: =Абгаз_состав!R46 -> 1.5334574 | F6: =Абгаз_состав!R65 -> 1.3728021 | G6: =Абгаз_состав!R65 -> 1.3728021 | H6: =AVERAGE(C6:G6) -> 1.4787113 | I6: =H6 -> 1.4787113 | J6: =I6 -> 1.4787113 | K6: =J6 -> 1.4787113 | L6: =K6 -> 1.4787113 | M6: =L6 -> 1.4787113 | N6: =M6 -> 1.4787113 | O6: =N6 -> 1.4787113 | P6: =O6 -> 1.4787113 | Q6: =P6 -> 1.4787113
B7: Коэффициент выбросов при сжигании абгаза на факеле, т СН4/т | C7: =Абгаз_состав!T8 -> 7.6465918e-05 | D7: =Абгаз_состав!T27 -> 0.00011764493 | E7: =Абгаз_состав!T46 -> 0.00013743777 | F7: =Абгаз_состав!T65 -> 0.00011487525 | G7: =Абгаз_состав!T65 -> 0.00011487525 | H7: =AVERAGE(C7:G7) -> 0.00011225982 | I7: =H7 -> 0.00011225982 | J7: =I7 -> 0.00011225982 | K7: =J7 -> 0.00011225982 | L7: =K7 -> 0.00011225982 | M7: =L7 -> 0.00011225982 | N7: =M7 -> 0.00011225982 | O7: =N7 -> 0.00011225982 | P7: =O7 -> 0.00011225982 | Q7: =P7 -> 0.00011225982
B8: Сжигание (потребление) ПГ на факеле в целях продувки, тыс. м3 | C8: ='Исходные данные'!C9/1000 -> 3629.3724 | D8: ='Исходные данные'!D9/1000 -> 7457.3331 | E8: ='Исходные данные'!E9/1000 -> 10652.699 | F8: =SUM('Исходные данные'!R30:R35)/1000+('Исходные данные'!R36*24/31/1000) -> 5183.3147 | G8: =SUM('Исходные данные'!R37:R41)/1000+('Исходные данные'!R36*7/31/1000) -> 4058.7513 | H8: ='Исходные данные'!T42/1000 -> 9038.0873 | I8: =H8 -> 9038.0873 | J8: =I8 -> 9038.0873 | K8: =J8 -> 9038.0873 | L8: =K8 -> 9038.0873 | M8: =L8 -> 9038.0873 | N8: =M8 -> 9038.0873 | O8: =N8 -> 9038.0873 | P8: =O8 -> 9038.0873 | Q8: =(SUM('Исходные данные'!T30:T35)+('Исходные данные'!T36*24/31))/1000 -> 4979.336
B9: Коэффициент выбросов при сжигании ПГ на факеле, т СО2/тыс. м3 | C9: =ПГ_состав!V5 -> 1.8816826 | D9: =ПГ_состав!V24 -> 1.8888208 | E9: =ПГ_состав!V43 -> 1.8975408 | F9: =ПГ_состав!V62 -> 1.8811812 | G9: =ПГ_состав!V62 -> 1.8811812 | H9: =AVERAGE(C9:G9) -> 1.8860813 | I9: =H9 -> 1.8860813 | J9: =I9 -> 1.8860813 | K9: =J9 -> 1.8860813 | L9: =K9 -> 1.8860813 | M9: =L9 -> 1.8860813 | N9: =M9 -> 1.8860813 | O9: =N9 -> 1.8860813 | P9: =O9 -> 1.8860813 | Q9: =P9 -> 1.8860813
B10: Коэффициент выбросов при сжигании ПГ на факеле, т СН4/тыс м3 | C10: =ПГ_состав!X5 -> 0.00038386954 | D10: =ПГ_состав!X24 -> 0.00038355558 | E10: =ПГ_состав!X43 -> 0.00038379606 | F10: =ПГ_состав!X62 -> 0.00038593032 | G10: =ПГ_состав!X62 -> 0.00038593032 | H10: =AVERAGE(C10:G10) -> 0.00038461636 | I10: =H10 -> 0.00038461636 | J10: =I10 -> 0.00038461636 | K10: =J10 -> 0.00038461636 | L10: =K10 -> 0.00038461636 | M10: =L10 -> 0.00038461636 | N10: =M10 -> 0.00038461636 | O10: =N10 -> 0.00038461636 | P10: =O10 -> 0.00038461636 | Q10: =P10 -> 0.00038461636 | R10: ИТОГО
B11: Выбросы, т СО2 | C11: =C5*C6+C9*C8 -> 39162.672 | D11: =D5*D6+D9*D8 -> 69166.88 | E11: =E5*E6+E9*E8 -> 82752.293 | F11: =F5*F6+F9*F8 -> 35283.603 | G11: =G5*G6+G9*G8 -> 38966.767 | H11: =H5*H6+H9*H8 -> 74119.307 | I11: =I5*I6+I9*I8 -> 74119.307 | J11: =J5*J6+J9*J8 -> 74119.307 | ... Q11: =Q5*Q6+Q9*Q8 -> 36894.095 | R11: =SUM(F11:Q11) -> 778218.23
B12: Выбросы, т CH4, в т СО2-экв. | C12: =((C8*C10)+(C5*C7))*Абгаз_состав!$C$85 -> 85.591677 | D12: =((D8*D10)+(D5*D7))*Абгаз_состав!$C$85 -> 191.5143 | E12: =((E8*E10)+(E5*E7))*Абгаз_состав!$C$85 -> 271.4189 | F12: =((F8*F10)+(F5*F7))*Абгаз_состав!$C$85 -> 115.8352 | G12: =((G8*G10)+(G5*G7))*Абгаз_состав!$C$85 -> 117.26954 | H12: =((H8*H10)+(H5*H7))*Абгаз_состав!$C$85 -> 218.65218 | I12: =((I8*I10)+(I5*I7))*Абгаз_состав!$C$85 -> 218.65218 | J12: =((J8*J10)+(J5*J7))*Абгаз_состав!$C$85 -> 218.65218 | ... Q12: =((Q8*Q10)+(Q5*Q7))*Абгаз_состав!$C$85 -> 112.08576 | R12: =SUM(F12:Q12) -> 2313.0602
B13: Выбросы по сценарию, т СО2-экв. | C13: =SUM(C11:C12) -> 39248.264 | D13: =SUM(D11:D12) -> 69358.394 | E13: =SUM(E11:E12) -> 83023.712 | F13: =SUM(F11:F12) -> 35399.438 | G13: =SUM(G11:G12) -> 39084.037 | H13: =SUM(H11:H12) -> 74337.959 | I13: =SUM(I11:I12) -> 74337.959 | J13: =SUM(J11:J12) -> 74337.959 | ... Q13: =SUM(Q11:Q12) -> 37006.181 | R13: =SUM(F13:Q13) -> 780531.29
B15: Проектный сценарий | C15: 2023 | D15: 2024 | E15: 2025 | F15: 01.01.2026-24.07.2026 | G15: 25.07.2026-31.12.2026 | H15: 2027 | I15: 2028 | J15: 2029 | K15: 2030 | L15: 2031 | M15: 2032 | N15: 2033 | O15: 2034 | P15: 2035 | Q15: 01.01.2036-24.07.2036
B16: Сжигание абгаза на факеле, т | C16: ='Исходные данные'!C5 -> 21756.622 | D16: ='Исходные данные'!D5 -> 33826.315 | E16: ='Исходные данные'!E5 -> 40782.588 | F16: =SUM('Исходные данные'!F13:F18) -> 15773.227 | G16: =SUM('Исходные данные'!F19:F24) -> 22823.042 | H16: ='Исходные данные'!F25 -> 38596.269 | I16: =H16 -> 38596.269 | J16: =I16 -> 38596.269 | K16: =J16 -> 38596.269 | L16: =K16 -> 38596.269 | M16: =L16 -> 38596.269 | N16: =M16 -> 38596.269 | O16: =N16 -> 38596.269 | P16: =O16 -> 38596.269 | Q16: =SUM('Исходные данные'!F13:F18)+('Исходные данные'!F19*24/31) -> 18599.075
B17: Коэффициент выбросов при сжигании абгаза на факеле, т СО2/т | C17: =Абгаз_состав!R8 -> 1.4861381 | D17: =Абгаз_состав!R27 -> 1.6283569 | E17: =Абгаз_состав!R46 -> 1.5334574 | F17: =Абгаз_состав!R65 -> 1.3728021 | G17: =Абгаз_состав!R65 -> 1.3728021 | H17: =AVERAGE(C17:G17) -> 1.4787113 | I17: =H17 -> 1.4787113 | J17: =I17 -> 1.4787113 | K17: =J17 -> 1.4787113 | L17: =K17 -> 1.4787113 | M17: =L17 -> 1.4787113 | N17: =M17 -> 1.4787113 | O17: =N17 -> 1.4787113 | P17: =O17 -> 1.4787113 | Q17: =P17 -> 1.4787113
B18: Коэффициент выбросов при сжигании абгаза на факеле, т СН4/т | C18: =Абгаз_состав!T8 -> 7.6465918e-05 | D18: =Абгаз_состав!T27 -> 0.00011764493 | E18: =Абгаз_состав!T46 -> 0.00013743777 | F18: =Абгаз_состав!T65 -> 0.00011487525 | G18: =Абгаз_состав!T65 -> 0.00011487525 | H18: =AVERAGE(C18:G18) -> 0.00011225982 | I18: =H18 -> 0.00011225982 | J18: =I18 -> 0.00011225982 | K18: =J18 -> 0.00011225982 | L18: =K18 -> 0.00011225982 | M18: =L18 -> 0.00011225982 | N18: =M18 -> 0.00011225982 | O18: =N18 -> 0.00011225982 | P18: =O18 -> 0.00011225982 | Q18: =P18 -> 0.00011225982
B19: Сжигание ПГ на факеле в целях продувки, м3 | C19: ='Исходные данные'!C9/1000 -> 3629.3724 | D19: ='Исходные данные'!D9/1000 -> 7457.3331 | E19: ='Исходные данные'!E9/1000 -> 10652.699 | F19: =SUM('Исходные данные'!S30:S36)/1000 -> 4772.8668 | G19: =SUM('Исходные данные'!S37:S41)/1000 -> 0 | H19: ='Исходные данные'!U42 -> 0 | I19: =H19 -> 0 | J19: =I19 -> 0 | K19: =J19 -> 0 | L19: =K19 -> 0 | M19: =L19 -> 0 | N19: =M19 -> 0 | O19: =N19 -> 0 | P19: =O19 -> 0 | Q19: =P19 -> 0
B20: Коэффициент выбросов при сжигании ПГ на факеле, т СО2/тыс м3 | C20: =ПГ_состав!V5 -> 1.8816826 | D20: =ПГ_состав!V24 -> 1.8888208 | E20: =ПГ_состав!V43 -> 1.8975408 | F20: =ПГ_состав!V62 -> 1.8811812 | G20: =ПГ_состав!V62 -> 1.8811812 | H20: =AVERAGE(C20:G20) -> 1.8860813 | I20: =H20 -> 1.8860813 | J20: =I20 -> 1.8860813 | K20: =J20 -> 1.8860813 | L20: =K20 -> 1.8860813 | M20: =L20 -> 1.8860813 | N20: =M20 -> 1.8860813 | O20: =N20 -> 1.8860813 | P20: =O20 -> 1.8860813 | Q20: =P20 -> 1.8860813
B21: Коэффициент выбросов при сжигании ПГ на факеле, т СН4/тыс м3 | C21: =ПГ_состав!X5 -> 0.00038386954 | D21: =ПГ_состав!X24 -> 0.00038355558 | E21: =ПГ_состав!X43 -> 0.00038379606 | F21: =ПГ_состав!X62 -> 0.00038593032 | G21: =ПГ_состав!X62 -> 0.00038593032 | H21: =AVERAGE(C21:G21) -> 0.00038461636 | I21: =H21 -> 0.00038461636 | J21: =I21 -> 0.00038461636 | K21: =J21 -> 0.00038461636 | L21: =K21 -> 0.00038461636 | M21: =L21 -> 0.00038461636 | N21: =M21 -> 0.00038461636 | O21: =N21 -> 0.00038461636 | P21: =O21 -> 0.00038461636 | Q21: =P21 -> 0.00038461636 | R21: ИТОГО
B22: Выбросы, т СО2 | C22: =C16*C17+C19*C20 -> 39162.672 | D22: =D16*D17+D19*D20 -> 69166.88 | E22: =E16*E17+E19*E20 -> 82752.293 | F22: =F16*F17+F19*F20 -> 30632.146 | G22: =G16*G17+G19*G20 -> 31331.521 | H22: =H16*H17+H19*H20 -> 57072.74 | I22: =I16*I17+I19*I20 -> 57072.74 | J22: =J16*J17+J19*J20 -> 57072.74 | ... Q22: =Q16*Q17+Q19*Q20 -> 27502.663 | R22: =SUM(F22:Q22) -> 603120.99
B23: Выбросы, т CH4, в т СО2-экв. | C23: =((C19*C21)+(C16*C18))*Абгаз_состав!$C$85 -> 85.591677 | D23: =((D19*D21)+(D16*D18))*Абгаз_состав!$C$85 -> 191.5143 | E23: =((E19*E21)+(E16*E18))*Абгаз_состав!$C$85 -> 271.4189 | F23: =((F19*F21)+(F16*F18))*Абгаз_состав!$C$85 -> 102.31052 | G23: =((G19*G21)+(G16*G18))*Абгаз_состав!$C$85 -> 73.410473 | H23: =((H19*H21)+(H16*H18))*Абгаз_состав!$C$85 -> 121.31869 | I23: =((I19*I21)+(I16*I18))*Абгаз_состав!$C$85 -> 121.31869 | J23: =((J19*J21)+(J16*J18))*Абгаз_состав!$C$85 -> 121.31869 | ... Q23: =((Q19*Q21)+(Q16*Q18))*Абгаз_состав!$C$85 -> 58.462008 | R23: =SUM(F23:Q23) -> 1326.0512
B24: Выбросы по сценарию, т СО2-экв. | C24: =SUM(C22:C23) -> 39248.264 | D24: =SUM(D22:D23) -> 69358.394 | E24: =SUM(E22:E23) -> 83023.712 | F24: =SUM(F22:F23) -> 30734.456 | G24: =SUM(G22:G23) -> 31404.931 | H24: =SUM(H22:H23) -> 57194.058 | I24: =SUM(I22:I23) -> 57194.058 | J24: =SUM(J22:J23) -> 57194.058 | ... Q24: =SUM(Q22:Q23) -> 27561.125 | R24: =SUM(F24:Q24) -> 604447.04
B25: Сокращение выбросов, т СО2 | C25: =C13-C24 -> 0 | D25: =D13-D24 -> 0 | E25: =E13-E24 -> 0 | F25: =F13-F24 -> 4664.9819 | G25: =G13-G24 -> 7679.1055 | H25: =H13-H24 -> 17143.901 | I25: =I13-I24 -> 17143.901 | J25: =J13-J24 -> 17143.901 | ... Q25: =Q13-Q24 -> 9445.0563 | R25: =SUM(G25:Q25) -> 171419.27
